
BEGIN:VCALENDAR
PRODID:KCSoul.com generated
VERSION:1.0
BEGIN:VEVENT
DTSTART:20270101T070000Z
DTEND:20270101T180000Z
LOCATION:Office no 1702, New Deira Building, Al Buteen, Al  Dubai, CO 
DESCRIPTION:<p>XoticXperiences is a professional event management company in Dubai helping brands, corporates, and organizations plan and deliver high-impact events across Dubai &amp; the UAE. If you&rsquo;re comparing event management companies in Dubai, choose a partner that combines strategic planning, experienced event planners, and full production control to deliver premium results on event day.</p>

<p>&nbsp;</p>
=0D=0A=0D=0ADownloaded from www.KCSoul.com
SUMMARY:XoticXperiences
END:VEVENT
END:VCALENDAR
