
BEGIN:VCALENDAR
PRODID:KCSoul.com generated
VERSION:1.0
BEGIN:VEVENT
DTSTART:20260516T200000Z
DTEND:20260517T050000Z
LOCATION: Kansas City, MO 
DESCRIPTION:<div style="text-align: center;">💜Mental Health &amp; Lupus (SLE) in the African American Community💜</div>

<div style="text-align: center;">African American individuals&mdash;especially women&mdash;experience Lupus (SLE) at higher rates and with more severe symptoms. This increased disease burden is closely linked to higher levels of depression, anxiety, and emotional distress.</div>

<div style="text-align: center;">&nbsp;</div>

<div style="text-align: center;">These mental health challenges are intensified by factors such as systemic inequities in healthcare, racism‑related stress, limited social support, and barriers to effective communication with providers. Despite this elevated risk, African American patients with SLE are less likely to receive a diagnosis or treatment for depression, leaving many without needed support.</div>

<div style="text-align: center;">Raising awareness of these disparities is essential to improving access to culturally responsive care, strengthening mental health resources, and ensuring equitable outcomes for those living with Lupus.</div>

<div style="text-align: center;">&nbsp;</div>

<div style="text-align: center;">💜💜Why This Matters💜💜</div>

<div style="text-align: center;">Lupus is not only a physical disease&mdash;it affects the whole person. Mental health challenges can worsen disease activity, reduce quality of life, and create barriers to consistent care. Addressing these disparities requires:</div>

<div style="text-align: center;">&bull; Culturally responsive healthcare</div>

<div style="text-align: center;">&bull; Improved communication and trust between patients and providers</div>

<div style="text-align: center;">&bull; Greater access to mental health resources</div>

<div style="text-align: center;">&bull; Community education and advocacy</div>

<div style="text-align: center;">&bull; Policies that address social determinants of health</div>

<div style="text-align: center;">Raising awareness is a critical step toward ensuring African American women living with lupus receive equitable, compassionate, and comprehensive care&mdash;physically, emotionally, and socially.</div>

<div style="text-align: center;">&nbsp;</div>

<div style="text-align: center;">By sharing this information, we help raise awareness, encourage early intervention, and advocate for more equitable care for those living with Lupus.&nbsp; Let&rsquo;s continue to uplift, educate, and support our community. 💜</div>

<div style="text-align: center;">&nbsp;</div>

<div style="text-align: center;">https://www.facebook.com/blackbutterflyfoundation.awareness/</div>

<div style="text-align: center;">&nbsp;</div>

<div style="text-align: center;">#Lupus #MentalHealthMatters #AutoimmuneDisease #MindBodyHealth #MentalHealthSupport</div>

<div style="text-align: center;">#GrandviewZetas #LupusAwareness #BlackWomenAndLupus #HealthDisparities #CommunityWellness #LupusAndMentalHealth #ZPhiB1920 #PowerOfSHE #ZetaPhiBeta #MOZetas&nbsp; #ZetasGetEngaged&nbsp;</div>
=0D=0A=0D=0ADownloaded from www.KCSoul.com
SUMMARY:LUPUS & MENTAL HEALTH
END:VEVENT
END:VCALENDAR
