
BEGIN:VCALENDAR
PRODID:KCSoul.com generated
VERSION:1.0
BEGIN:VEVENT
DTSTART:20230408T160000Z
DTEND:20230408T180000Z
LOCATION:14605 E US Highway 40 Raytown, MO 
DESCRIPTION:<p>The women of <strong>Sigma Gamma Rho Sorority, Inc., Psi Sigma Chapter</strong>, invite you&nbsp;to join us for <strong>Uni-Tea,</strong> an event to unite and empower women.</p>

<p>Attire: Classy tea attire; hats and gloves are encouraged.</p>

<p>Won&#39;t you join us?</p>

<p>Purchase tickets using the following link:</p>

<p><a href="https://www.eventbrite.com/e/uni-tea-tickets-560019773217" style="color: rgb(17, 85, 204); font-family: Arial, Helvetica, sans-serif; font-size: small;" target="_blank">https://www.eventbrite.com/e/uni-tea-tickets-560019773217</a></p>

<p>&nbsp;</p>
=0D=0A=0D=0ADownloaded from www.KCSoul.com
SUMMARY:Uni-Tea
END:VEVENT
END:VCALENDAR
