
BEGIN:VCALENDAR
PRODID:KCSoul.com generated
VERSION:1.0
BEGIN:VEVENT
DTSTART:20200929T001500Z
DTEND:20200929T030000Z
LOCATION:1101 Russell St Baltimore, MD 
DESCRIPTION:<p>Chiefs vs Baltimore Ravens</p>

<p>M&amp;T Bank Stadium</p>
=0D=0A=0D=0ADownloaded from www.KCSoul.com
SUMMARY:Chiefs vs Baltimore Ravens
END:VEVENT
END:VCALENDAR
